BEGIN:VCALENDAR
VERSION:2.0
PRODID:-//eventon.com NONSGML v1.0//EN
CALSCALE:GREGORIAN
METHOD:PUBLISH
BEGIN:VEVENT
UID:69e61b8b6dfb0
DTSTAMP:20260420T122651Z
DTSTART:20210227T083000Z
DTEND:20210227T090000Z
LOCATION:6161 Woolbright Rd\,  Boynton Beach\,  FL 33437\,  USA 6161 Woolbright Rd\,  Boynton Beach\,  FL 33437\,  USA
SUMMARY:Saturday Test
DESCRIPTION:Testing for good luck!!!!\nhttps://www.southtechschools.org/eve
 nts/saturday-test/
URL:https://www.southtechschools.org/events/saturday-test/
END:VEVENT
END:VCALENDAR