BEGIN:VCALENDAR
VERSION:2.0
PRODID:-//eventon.com NONSGML v1.0//EN
CALSCALE:GREGORIAN
METHOD:PUBLISH
BEGIN:VEVENT
UID:69e88b4b19ba2
DTSTAMP:20260422T084811Z
DTSTART:20210809
DTEND:20210810
LOCATION:
SUMMARY:Pre-School
DESCRIPTION:Pre-School\nhttps://www.southtechschools.org/events/pre-school-
 2/
URL:https://www.southtechschools.org/events/pre-school-2/
END:VEVENT
END:VCALENDAR