BEGIN:VCALENDAR
VERSION:2.0
PRODID:-//eventon.com NONSGML v1.0//EN
CALSCALE:GREGORIAN
METHOD:PUBLISH
BEGIN:VEVENT
UID:69e78664ecdaf
DTSTAMP:20260421T141500Z
DTSTART:20211220
DTEND:20211221
LOCATION:
SUMMARY:STA-FINAL EXAM P1-P2
DESCRIPTION:STA-FINAL EXAM P1-P2\nhttps://www.southtechschools.org/events/s
 ta-final-exam-p1-p2/
URL:https://www.southtechschools.org/events/sta-final-exam-p1-p2/
END:VEVENT
END:VCALENDAR