BEGIN:VCALENDAR
VERSION:2.0
PRODID:-//eventon.com NONSGML v1.0//EN
CALSCALE:GREGORIAN
METHOD:PUBLISH
BEGIN:VEVENT
UID:69e4eb19b37d2
DTSTAMP:20260419T144753Z
DTSTART:20220216
DTEND:20220217
LOCATION:
SUMMARY:STPA- Parents' Spring Training
DESCRIPTION:STPA- Parents' Spring Training\nhttps://www.southtechschools.or
 g/events/stpa-parents-spring-training/
URL:https://www.southtechschools.org/events/stpa-parents-spring-training/
END:VEVENT
END:VCALENDAR