BEGIN:VCALENDAR
VERSION:2.0
PRODID:-//eventon.com NONSGML v1.0//EN
CALSCALE:GREGORIAN
METHOD:PUBLISH
BEGIN:VEVENT
UID:69e9dd645871d
DTSTAMP:20260423T085044Z
DTSTART:20220805T120000Z
DTEND:20220805T140000Z
LOCATION:6161 W Woolbright Rd\,  Boynton Beach\,  FL 33437 6161 W Woolbright Rd\,  Boynton Beach\,  FL 33437
SUMMARY:STA New Student Orientation - Music & Sound Production\,  Automotive Technology\,  Auto Collision & Repair\,  Culinary\,  Cosmetology\,  and Business Management
DESCRIPTION:Academy Orientation for: Music &amp; Sound Production Automotiv
 e Technology Auto Collision &amp; Repair Culinary Cosmetology Business Mana
 gement\nhttps://www.southtechschools.org/events/sta-new-student-orientation
 -music-sound-production-automotive-technology-auto-collision-repair-culinar
 y-cosmetology-and-business-management/
URL:https://www.southtechschools.org/events/sta-new-student-orientation-music-sound-production-automotive-technology-auto-collision-repair-culinary-cosmetology-and-business-management/
END:VEVENT
END:VCALENDAR