BEGIN:VCALENDAR
VERSION:2.0
PRODID:-//eventon.com NONSGML v1.0//EN
CALSCALE:GREGORIAN
METHOD:PUBLISH
BEGIN:VEVENT
UID:69e78af92ae26
DTSTAMP:20260421T143433Z
DTSTART:20230316
DTEND:20230317
LOCATION:
SUMMARY:STA & STPA Students Early Dismissal
DESCRIPTION:STA &amp; STPA Students Early Dismissal\nhttps://www.southtechs
 chools.org/events/sta-stpa-students-early-dismissal/
URL:https://www.southtechschools.org/events/sta-stpa-students-early-dismissal/
END:VEVENT
END:VCALENDAR