BEGIN:VCALENDAR
VERSION:2.0
PRODID:-//eventon.com NONSGML v1.0//EN
CALSCALE:GREGORIAN
METHOD:PUBLISH
BEGIN:VEVENT
UID:69e9f12e67784
DTSTAMP:20260423T101510Z
DTSTART:20250122T180000Z
DTEND:20250122T193000Z
LOCATION:6161 Woolbright Rd\,  Boynton Beach\,  FL 33437\,  USA 6161 Woolbright Rd\,  Boynton Beach\,  FL 33437\,  USA
SUMMARY:STA Meet the Teacher & Title I Parent Meeting
DESCRIPTION:STA Meet the Teacher &amp; Title I Parent Meeting\nhttps://www.
 southtechschools.org/events/sta-meet-the-teacher-title-i-parent-meeting-2/
URL:https://www.southtechschools.org/events/sta-meet-the-teacher-title-i-parent-meeting-2/
END:VEVENT
END:VCALENDAR