BEGIN:VCALENDAR
VERSION:2.0
PRODID:-//eventon.com NONSGML v1.0//EN
CALSCALE:GREGORIAN
METHOD:PUBLISH
BEGIN:VEVENT
UID:69e88e10e9a3f
DTSTAMP:20260422T090000Z
DTSTART:20251124
DTEND:20251125
LOCATION:
SUMMARY:Holiday
DESCRIPTION:Holiday\nhttps://www.southtechschools.org/events/holiday-40/
URL:https://www.southtechschools.org/events/holiday-40/
END:VEVENT
END:VCALENDAR