BEGIN:VCALENDAR
VERSION:2.0
PRODID:-//eventon.com NONSGML v1.0//EN
CALSCALE:GREGORIAN
METHOD:PUBLISH
BEGIN:VEVENT
UID:69e4ea6365e16
DTSTAMP:20260419T144451Z
DTSTART:20250826T180000Z
DTEND:20250826T200000Z
LOCATION:
SUMMARY:STA - Meet the Teacher & Title I Parent Meeting
DESCRIPTION:STA - Meet the Teacher &amp; Title I Parent Meeting\nhttps://ww
 w.southtechschools.org/events/sta-meet-the-teacher-title-i-parent-meeting-3
 /
URL:https://www.southtechschools.org/events/sta-meet-the-teacher-title-i-parent-meeting-3/
END:VEVENT
END:VCALENDAR